BEGIN:VCALENDAR
VERSION:2.0
PRODID:-//Etincelle - ECPv4.1.3//NONSGML v1.0//EN
CALSCALE:GREGORIAN
METHOD:PUBLISH
X-WR-CALNAME:Etincelle
X-ORIGINAL-URL:https://etincelle-theatre-forum.com
X-WR-CALDESC:Events for Etincelle
BEGIN:VEVENT
DTSTART;VALUE=DATE:20240325
DTEND;VALUE=DATE:20240326
DTSTAMP:20260421T095200
CREATED:20240215
LAST-MODIFIED:20240403
UID:3634-1711335600-1711421999@etincelle-theatre-forum.com
SUMMARY:Journée de Théâtre Forum Intérieur: Plonger au cœur de notre système interne
DESCRIPTION:Nombreux sont les personnages qui habitent en nous. Telle est la vision sur laquelle s’appuie le Théâtre-Forum Intérieur : une psyché multiple\, un village peuplé de personnages\, construits au fil des années et dirigeant parfois notre vie\, à notre insu.\n\nEt si plutôt que de les juger ou de s’épuiser à tenter de s’en débarrasser\, nous allions à leur rencontre : que nous veulent-ils ? Derrière leurs maladresses et leur radicalité\, que cherchent-ils à nous transmettre ?\n\nPar ce voyage intérieur\, nous nous ouvrons progressivement à notre sagesse profonde\, capable d’accueillir avec amour et curiosité tous ces personnages et à les inviter à la table du dialogue et de la pacification.\n\nAinsi\,  pas à pas\, nous recouvrons notre énergie vitale\, notre créativité et devenons plus conscients de nos choix de vie pour nous et pour l’humanité.\n\nLe Théâtre Forum Intérieur est une approche vivante qui s’inspire du théâtre-forum et de l’IFS (Internal Family System).\n\nCet atelier s’appuie sur les résonances inconscientes entre nos histoires\, la bienveillance du groupe et l’intelligence collective.\n\nNous vous y proposerons :\n\n \tD’identifier les personnages en vous et les tensions éventuelles\,\n \tD’assister à la mise en jeu de vos personnages grâce aux autres participants\,\n \tDe rentrer en relation avec vos personnages à partir de votre être profond pour en prendre soin et découvrir leurs ressources\n \tD’explorer avec le théâtre-forum comment créer en soi une synergie plus vivante et consciente.\n\nLe théâtre-forum a été co-créé par Véronique Guérin et Laurène Grangette.\n\nIntervenants :\n\n \tVéronique Guérin : Elle  impulse au sein de l’organisme de formation Etincelle\, des explorations de nouvelles formes de connaissance de soi et de thérapie. Psychosociologue\, formée à la psychanalyse jungienne\, elle s’appuie sur le théâtre-forum depuis 25 ans pour accompagner les personnes et les groupes. Elle sera assistée par Bérengère Chevy\n\n\n \tBérengère Chevy : Art thérapeute\, formatrice pour Etincelle et pour l'Irfat (école d'art thérapie d'Avignon). Formée par Etincelle\, elle pratique le théâtre forum depuis 15 ans pour accompagner des groupes.\n\n\n\nHoraires : de 9h00 à 17h00\n\nLieu : Avignon\n\nRepas tiré du sac\n\nPrix : libre et conscient\, entre 80 et 120 € en fonction de vos ressources.\n\nInformations et inscriptions : chevybe@gmail.com ou 07 83 44 68 82\n\nChaque atelier TFI est indépendant et le groupe est ouvert. Le nombre de participants est limité à 12 personnes.\n\nPrésentation du théâtre forum intérieur :\n\nhttps://www.youtube.com/watch?v=Z3F-xBvPmJs
URL:https://etincelle-theatre-forum.com/event/journee-de-theatre-forum-interieur/
END:VEVENT
END:VCALENDAR