BEGIN:VCALENDAR
VERSION:2.0
PRODID:-//Etincelle - ECPv4.1.3//NONSGML v1.0//EN
CALSCALE:GREGORIAN
METHOD:PUBLISH
X-WR-CALNAME:Etincelle
X-ORIGINAL-URL:http://etincelle-theatre-forum.com
X-WR-CALDESC:Events for Etincelle
BEGIN:VEVENT
DTSTART;VALUE=DATE:20250613
DTEND;VALUE=DATE:20250614
DTSTAMP:20260419T163734
CREATED:20250210
LAST-MODIFIED:20250526
UID:3862-1749783600-1749869999@etincelle-theatre-forum.com
SUMMARY:Journée d'exploration du Théâtre Forum Intérieur
DESCRIPTION:Le Vendredi 13 Juin De 9h30 à 17h\n\nEspace Mycélium à Montarnaud\, près de Montpellier\nContribution libre entre 80 et 120 € en fonction de vos ressources\nRepas tiré du sac\nChaque atelier TFI est indépendant\nPour réserver votre place\, merci de remplir ce formulaire et de verser un acompte de 40 euros ICI.\nUne question ? Tu peux joindre Véronique au 06 48 06 92 70\n\nDans cette une vidéo de 6'\, vous découvrirez les principes de base du théâtre-Forum intérieur\n\n\n\nLe Théâtre Forum Intérieur est une approche vivante qui s’inspire du théâtre-forum et de l’IFS (Internal Family System).\n\nNous vous y proposerons :\n\n \tD’identifier les personnages en vous et les tensions éventuelles\,\n \tD’assister à la mise en jeu de vos personnages grâce aux autres participants\,\n \tDe rentrer en relation avec vos personnages à partir de votre être profond pour en prendre soin et découvrir leurs ressources\n \tD’explorer avec le théâtre-forum comment créer en soi une synergie plus vivante et consciente\n\nLes intervenantes\,Véronique Guérin et Laurène Grangette\, sont les co-créatrices du TFI\n\nVéronique Guérin est psychosociologue. Elle est diplômée en sciences cognitives et psychanalyse jungienne et formée à l’improvisation musicale et théâtrale. Elle découvre le Théâtre-Forum au Québec en 1987. Un véritable coup de cœur ! Désireuse  de faire connaître cette approche et de l’expérimenter au service de l’intelligence relationnelle\, elle fonde Etincelle. En 2015\, elle s’initie au théâtre playback. Nouveau coup de cœur ! Elle adore écouter les histoires de vie et les refléter en corps et en voix avec la troupe Magma. Puis\, en 2017\, avec Laurène Grangette\, elle explore comment favoriser la connaissance de soi dans toute sa diversité. C’est la naissance du Théâtre-Forum Intérieur !\n\nLaurène Grangette est formatrice et facilitatrice de théâtre-forum.\n\nElle accompagne les organisations et les individus vers plus de clarté et d’aisance dans leur relation aux autres\, au monde\, et à eux même. Elle est la co-créatrice du théâtre-forum intérieur\, modèle de conscience de soi qui relie les dynamiques externes dans nos vies\, et celles de nos tiraillements intérieurs. Elle a à cœur d’intégrer l’expérimentation comme terreau d’évolution dans toutes ses interventions.\n\nEn savoir plus sur l'IFS :\n\n\n\n \n\n 
URL:http://etincelle-theatre-forum.com/event/journee-dexploration-theatre-forum-interieur-13-juin/
END:VEVENT
END:VCALENDAR