BEGIN:VCALENDAR
VERSION:2.0
PRODID:-//Etincelle - ECPv4.1.3//NONSGML v1.0//EN
CALSCALE:GREGORIAN
METHOD:PUBLISH
X-WR-CALNAME:Etincelle
X-ORIGINAL-URL:http://etincelle-theatre-forum.com
X-WR-CALDESC:Events for Etincelle
BEGIN:VEVENT
DTSTART;VALUE=DATE:20250203
DTEND;VALUE=DATE:20250208
DTSTAMP:20260419T225152
CREATED:20240221
LAST-MODIFIED:20250103
UID:3648-1738551600-1738983599@etincelle-theatre-forum.com
SUMMARY:Formation au théâtre-forum: Concevoir\, jouer\, faciliter. Bases et approfondissement
DESCRIPTION:\n\n(Cliquez ici pour plus d'information sur la pratique du théâtre-forum).\nLe théâtre-forum est un outil au cœur de notre pratique depuis la création d'Etincelle en 1998.\n\nAfin de faciliter la participation\, la transmission et l'engagement des personnes\, nous avons décidé d'organiser une session complète de 5 jours de formation au théâtre-forum. Cette formation concerne les cycles de base et d'approfondissement. Elle vise à transmettre les fondamentaux de l'outil du théâtre-forum et d'en approfondir l'expérience.\nObjectifs : \n\n \tDécouvrir et pratiquer les fondements de l’outil du théâtre-forum\n \tMaîtriser les mécaniques d'une scène de théâtre-forum\n \tParticiper et s’expérimenter aux étapes et postures d'un théâtre-forum : écriture\, jeu et\nfacilitation.\n\nContenu :\n\n \tLes bases du théâtre forum :\n\n \tLe postulat : le public est un spect'acteur\n\n\n\n\n \tÉcriture d’une saynète de théâtre-forum :\n\n \tComprendre les enjeux\n \tEcrire à partir de situations réelles\n \tLes étapes de construction d'une scène\n \tImaginer la scène à l'aide du théâtre-image\n \tClarifier l'intention pour relever les enjeux cachés\n\n\n\n\n \tFacilitation d'un théâtre-forum\n\n \tLa vie du groupe durant une séance de théâtre-forum\n \tLes différentes séquences d’un théâtre-forum\n \tIntention et posture du facilitateur de théâtre-forum\n \tPoser le cadre et s'accorder sur les responsabilités comédien - facilitateur\n \tDévelopper son aptitude à accueillir des attitudes difficiles\n\n\n\n\n \tJouer dans un théâtre-forum\n\n \tComprendre le rôle du comédien de théâtre-forum dans la structure globale du théâtre-forum (avec le facilitateur\, avec le public)\n \tLes remplacements : ressentir et réajuster\n \tAccueillir et soutenir les propositions du public\n \tDévelopper la capacité à improviser avec les remplacements tout en restant en empathie avec son personnage\n\n\n\nPublic : Cette formation s'adresse à toute personne souhaitant découvrir et apprendre les fondamentaux de l'outil théâtre-forum pour sa pratique professionnelle et/ou dans un cadre associatif ou personnel.\n\nPré-requis : aucun\nLa pédagogie est vivante et interactive : les stagiaires sont activement impliqués dans la formation\, dans une pédagogie active.\nL’approche proposée s’appuie sur l’analyse systémique dans laquelle l’attention est portée plus particulièrement sur les interactions entre les individus. Les participants sont conviés à ne plus considérer autrui comme agissant à partir de son seul moteur intérieur\, mais en relation avec son entourage. En prenant conscience de l’impact de leurs attitudes sur autrui\, les participants font évoluer leurs représentations et développent leurs compétences relationnelles.\nDurée : 35h00 sur 5 jours\n\nModalités pédagogique : Présentiel (approche pédagogique en téléchargement en bas de page)\n\nTaille du groupe : L'intention est de créer l'espace et le contenu qui vous permettra d'expérimenter chacune des postures et d'aborder les thématiques qui vous intéressent. Avec cette intention\, nous accueillons 12 personnes uniquement à cette formation\n\nEncadrement de la formation :\n\nLa formation sera animée par Laurène Grangette\n\nLaurène Grangette est formatrice et facilitatrice de théâtre-forum. Elle accompagne les organisations et les individus vers plus de clarté et d’aisance dans leur relation aux autres\, au monde\, et à eux même. Elle est la co-créatrice du théâtre-forum intérieur\, modèle de conscience de soi qui relie les dynamiques externes dans nos vies\, et celles de nos tiraillements intérieurs. Elle a à cœur d’intégrer l’expérimentation comme terreau d’évolution dans toutes ses interventions.\n\nTarifs :\n\n \tPour une prise en charge individuelle: 875 euros HT soit 875 euros TTC\n \tPour une prise en charge via la formation professionnelle continue: 1125 euros HT soit 1125 euros TTC\n\nContact : \n\n \tPour les informations sur le théâtre-forum et la formation : Laurène Grangette au 06 59 19 16 20.\n \tPour demander un devis et/ou une convention de la formation professionnelle pour une prise en charge de la formation par un OPCO (pas de possibilité de prise en charge CPF) : contact@etincelle-theatre-forum.com\n\nModalités :\n\n \tDates : du 3 au 7 février 2025\, proche Montpellier\n \tHoraires :\n\n \tJour 1 : 10h00-13h00 / 14h30- 18h00 (6h30)\n \tJour 2 : 9h30 – 13h / 14h30 – 18h30 (7h30)\n \tJour 3 : 9h30 – 13h / 14h30 – 18h30 (7h30)\n \tJour 4 : 9h30 – 13h / 14h30 – 18h30 (7h30)\n \tJour 5 : 9h30 – 13h / 14h30 – 17h ( 7h )\n\n\n\nNombre d'heures : 35 heures\n\nLieu : 24 Avenue des pins\, 34570 MONTARNAUD\n\nModalités d'évaluation : En fin d'action\, bilan écrit à chaud avec les participants\, incluant une auto-évaluation\,puis à froid avec\nle commanditaire. Durant la.les sessions de formation\, le/les formateur.trice.s proposeront aux stagiaires\, à l'oral\, des points réguliers d'auto-évaluation de leurs connaissances. A l’issue de la formation\, un certificat de réalisation sera délivré à chacun des participants\n\nProgramme de formation-TF complète - 5 jours (cliquez pour télécharger)\n\nNotre approche pédagogique  (Cliquez pour télécharger)\n\nRetours de participants :\n\n" Formation riche\, conviviale\, détendue même si impliquante grâce à la formatrice pédagogue\, enthousiaste\, joyeuse et bienveillante\, et grâce à chacun.e du groupe. L'intelligence collective a bien fonctionné. MERCI"\n\n" Une formatrice bienveillante\, à l'écoute et passionnée qui nous permets de nous sentir en sécurité et expérimenter. La dynamique de groupe permet une réelle intelligence collective".\n\n"Formation très engagée dans l'exploration pratique (on fait l'expérience : on apprend en faisant) et compléments théoriques ou retours d'expériences... chouette équilibre !"\n\n\n\nVous pouvez vous inscrire auprès de l'association Etincelle :\n\nmail: contact@etincelle-theatre-forum.com\n\n\nTel : 06 59 19 16 20\n
URL:http://etincelle-theatre-forum.com/event/formation-complete-theatre-forum-concevoir-jouer-faciliter-approfondissement/
END:VEVENT
END:VCALENDAR