BEGIN:VCALENDAR
VERSION:2.0
PRODID:-//Etincelle - ECPv4.1.3//NONSGML v1.0//EN
CALSCALE:GREGORIAN
METHOD:PUBLISH
X-WR-CALNAME:Etincelle
X-ORIGINAL-URL:http://etincelle-theatre-forum.com
X-WR-CALDESC:Events for Etincelle
BEGIN:VEVENT
DTSTART;VALUE=DATE:20250118
DTEND;VALUE=DATE:20250120
DTSTAMP:20260420T003333
CREATED:20241129
LAST-MODIFIED:20241203
UID:3844-1737169200-1737341999@etincelle-theatre-forum.com
SUMMARY:Conférences: La dramathérapie et les arts scéniques à visée thérapeutique\, sociale et éducative
DESCRIPTION:Être dramathérapeute et artiste\, ou être artiste et dramathérapeute ?\nL'Association nationale de dramathérapie présente son 9ème rassemblement des dramathérapeutes et professionnels utilisant les arts scéniques à des fins thérapeutiques\, sociales et éducatives.\n\nIl se tiendra à Lyon les 18 et 19 janvier 2025\n\nVéronique Guérin y présentera :\n\n \tSamedi à 14h le Théâtre Playback\n \tSamedi à 16h30 le Théâtre Forum Intérieur\n\nPROGRAMME\n« Janus »\, encre de Chine 24x32\, avec\nl’aimable autorisation de l’artiste Zotide\nLe dramathérapeute doit-il se masquer en artiste pour pratiquer ? Comment ces deux identités se rencontrent-elles dans nos pratiques\, dans les institutions ? Quelle place a l’artiste dans une réflexion éthique du métier ? Dans le cadre de projets artistiques\, comment répondre\, en tant que dramathérapeute\, à la demande de l’institution ? Peut-on imaginer des dispositifs thérapeutiques qui mènent à la scène ? Comment la création est intégrée dans nos vies et celles de nos patients ?\n\nCe neuvième rassemblement propose des rencontres créatives\, des présentations de travaux cliniques dans les domaines du thérapeutique\, du sanitaire\, du social\, de l’éducatif et des ateliers expérientiels par des dramathérapeutes et des professionnels utilisant les arts scéniques dans leur pratique. Ces journées sont ouvertes à tous sur inscription.\n\n \n\nRens. : www.dramatherapiefrance.wixsite.com\, assonatonaledramatherapie@gmail.com
URL:http://etincelle-theatre-forum.com/event/conference-theatre-forum-interieur-lyon/
END:VEVENT
END:VCALENDAR