BEGIN:VCALENDAR
VERSION:2.0
PRODID:-//Etincelle - ECPv4.1.3//NONSGML v1.0//EN
CALSCALE:GREGORIAN
METHOD:PUBLISH
X-WR-CALNAME:Etincelle
X-ORIGINAL-URL:http://etincelle-theatre-forum.com
X-WR-CALDESC:Events for Etincelle
BEGIN:VEVENT
DTSTART;VALUE=DATE:20230523
DTEND;VALUE=DATE:20230527
DTSTAMP:20260421T195931
CREATED:20230221
LAST-MODIFIED:20230327
UID:2917-1684810800-1685156399@etincelle-theatre-forum.com
SUMMARY:Formation au Théâtre Playback
DESCRIPTION:Qu’est-ce que le Théâtre Playback ou Théâtre des reflets ?\n\nDes spectateurs /trices qui partagent des moments de vie insolites et émouvants\n\nDes comédien.ne.s qui reflètent sous forme artistique leurs récits\n\nDes histoires qui réveillent d’autres histoires et tissent des liens d’humanité et de résilience…\n\n \n\n\n\n \n\n \n\nCette formation est proposée en partenariat avec l'association Magma.\n\nPublic : Cette formation s'adresse à toute personne souhaitant découvrir et apprendre les fondamentaux de l'outil du Playback-théâtre.\n\nPré-requis : aucun\n\nObjectif : Acquérir les techniques de base du Playback Théâtre\n\nContenu :\n\n \tThéorie sur le théâtre playback : Histoire\, objectifs\, contexte\, enjeux\n \tExercices de mise en mouvement et d'écoute corporelle \n \tExercices favorisant la mise en jeu de récits\n \tExpérimentation deq formes du théâtre playback \n \tParticipation à une représentation de théâtre playback en public\n\nDurée :  4 jours (23 heures)\n\nModalités pédagogique : présentiel\n\nTaille du groupe : 16 personnes maximum\n\nEncadrement de la formation :\n\nLa formation sera facilitée par Véronique Guérin\, comédienne\, metteuse en scène et autrice théâtrale. Elle s'est formée au théâtre playback avec Ben Rivers et Marianne Grison.  Elle fait partie de la troupe Magma à Montpellier qui donne régulièrement des représentations de théâtre playback. \n\nElle est également la co-créatrice du théâtre-forum intérieur\, modèle de conscience de soi qui met en jeu les facettes de notre personnalité. \n\nTarifs :\n\n \t350 euros pour les particuliers\n \t700 euros dans le cadre de la prise en charge formation continue\n\nContact : \n\n \tPour les informations sur la formation\, contactez Véronique Guérin au 06 48 06 92 70\n \tPour demander un devis et/ou une convention de la formation professionnelle pour une prise en charge de la formation par un OPCA (pas de possibilité de prise en charge CPF) : contact@etincelle-theatre-forum.com\n\nPour réserver votre place\, merci de remplir ce formulaire et de verser un acompte de 80 euros ICI.\nModalités :\n\n \tDates : du 23 au 26 mai 2023\n \tHoraires :\n\n \tJour 1 : 10h00-13h00 / 14h30- 17h30\n \tJour 2 : 9h30 – 12h30 / 15h00 – 17h30\n \tJour 3 : 9h30 – 12h30 / 15h00 – 17h30\n \tJour 4 : 9h30 – 12h30 / 14h00 – 16h00\n\n\n\nNombre d'heures : 23 heures\n\nLieu : Salle Mycélium\, 34570 MONTARNAUD\n\n \n\nNous aménageons le contenu de la formation pour les personnes en situation de handicap : merci de nous contacter en amont.\n\nProgramme de formation-thatre playback mai 23 au Playback-théâtre (cliquez pour télécharger)\n\nNotre approche pédagogique  (Cliquez pour télécharger)\n\nModalités d'évaluation : bilan à chaud avec les participants.\n\n 
URL:http://etincelle-theatre-forum.com/event/formation-playback-theatre/
END:VEVENT
END:VCALENDAR